BEGIN:VCALENDAR
VERSION:2.0
PRODID:-//M de Música - ECPv5.14.1//NONSGML v1.0//EN
CALSCALE:GREGORIAN
METHOD:PUBLISH
X-WR-CALNAME:M de Música
X-ORIGINAL-URL:https://mdemusica.pt
X-WR-CALDESC:Events for M de Música
BEGIN:VTIMEZONE
TZID:Europe/Lisbon
BEGIN:DAYLIGHT
TZOFFSETFROM:+0000
TZOFFSETTO:+0100
TZNAME:WEST
DTSTART:20190331T010000
END:DAYLIGHT
BEGIN:STANDARD
TZOFFSETFROM:+0100
TZOFFSETTO:+0000
TZNAME:WET
DTSTART:20191027T010000
END:STANDARD
END:VTIMEZONE
BEGIN:VEVENT
DTSTART;VALUE=DATE:20190214
DTEND;VALUE=DATE:20190215
DTSTAMP:20260421T093710
CREATED:20181031T174248Z
LAST-MODIFIED:20181031T174248Z
UID:16260-1550102400-1550188799@mdemusica.pt
SUMMARY:Xutos & Pontapés\, Montepio Às Vezes O Amor\, Convento São Francisco\, Coimbra
DESCRIPTION:
URL:https://mdemusica.pt/agenda/xutos-pontapes-montepio-as-vezes-amor-convento-sao-francisco-coimbra/
LOCATION:Convento de São Francisco\, Av. da Guarda Inglesa\, 1A \,  Coimbra\, 3040-293\, Portugal
ATTACH;FMTTYPE=image/png:https://mdemusica.pt/wp-content/uploads/2018/10/Screen-Shot-2018-10-30-at-15.51.34.png
END:VEVENT
END:VCALENDAR