BEGIN:VCALENDAR
VERSION:2.0
PRODID:-//M de Música - ECPv5.14.1//NONSGML v1.0//EN
CALSCALE:GREGORIAN
METHOD:PUBLISH
X-WR-CALNAME:M de Música
X-ORIGINAL-URL:https://mdemusica.pt
X-WR-CALDESC:Events for M de Música
BEGIN:VTIMEZONE
TZID:Europe/Lisbon
BEGIN:DAYLIGHT
TZOFFSETFROM:+0000
TZOFFSETTO:+0100
TZNAME:WEST
DTSTART:20190331T010000
END:DAYLIGHT
BEGIN:STANDARD
TZOFFSETFROM:+0100
TZOFFSETTO:+0000
TZNAME:WET
DTSTART:20191027T010000
END:STANDARD
END:VTIMEZONE
BEGIN:VEVENT
DTSTART;VALUE=DATE:20190117
DTEND;VALUE=DATE:20190118
DTSTAMP:20260419T235725
CREATED:20190109T134307Z
LAST-MODIFIED:20190109T134307Z
UID:16945-1547683200-1547769599@mdemusica.pt
SUMMARY:X-Wife\, Sala Estúdio\, Teatro Aveirense\, Aveiro
DESCRIPTION:
URL:https://mdemusica.pt/agenda/x-wife-sala-estudio-teatro-aveirense-aveiro/
LOCATION:Teatro Aveirense\, Rua Belém do Pará\, Aveiro \, 3810-066\, Portugal
ATTACH;FMTTYPE=image/jpeg:https://mdemusica.pt/wp-content/uploads/2019/01/thumbs.web_.sapo_.io_.jpg
END:VEVENT
END:VCALENDAR