BEGIN:VCALENDAR
VERSION:2.0
PRODID:-//M de Música - ECPv5.14.1//NONSGML v1.0//EN
CALSCALE:GREGORIAN
METHOD:PUBLISH
X-WR-CALNAME:M de Música
X-ORIGINAL-URL:https://mdemusica.pt
X-WR-CALDESC:Events for M de Música
BEGIN:VTIMEZONE
TZID:Europe/Lisbon
BEGIN:DAYLIGHT
TZOFFSETFROM:+0000
TZOFFSETTO:+0100
TZNAME:WEST
DTSTART:20190331T010000
END:DAYLIGHT
BEGIN:STANDARD
TZOFFSETFROM:+0100
TZOFFSETTO:+0000
TZNAME:WET
DTSTART:20191027T010000
END:STANDARD
END:VTIMEZONE
BEGIN:VEVENT
DTSTART;VALUE=DATE:20190914
DTEND;VALUE=DATE:20190916
DTSTAMP:20260420T234615
CREATED:20190710T150556Z
LAST-MODIFIED:20190710T150556Z
UID:18688-1568419200-1568591999@mdemusica.pt
SUMMARY:Wine & Music Valley\, Porto Comercial de Cambres\, Peso da Régua
DESCRIPTION:
URL:https://mdemusica.pt/agenda/wine-music-valley-porto-comercial-cambres-peso-da-regua/
LOCATION:Wine & Music Valley\, Porto Comercial de Cambres\, Peso da Régua\, Portugal
ATTACH;FMTTYPE=image/png:https://mdemusica.pt/wp-content/uploads/2019/07/wine-music-valley-2108097786-300x300.png
END:VEVENT
END:VCALENDAR