BEGIN:VCALENDAR
VERSION:2.0
PRODID:-//M de Música - ECPv5.14.1//NONSGML v1.0//EN
CALSCALE:GREGORIAN
METHOD:PUBLISH
X-WR-CALNAME:M de Música
X-ORIGINAL-URL:https://mdemusica.pt
X-WR-CALDESC:Events for M de Música
BEGIN:VTIMEZONE
TZID:Europe/Lisbon
BEGIN:DAYLIGHT
TZOFFSETFROM:+0000
TZOFFSETTO:+0100
TZNAME:WEST
DTSTART:20170326T010000
END:DAYLIGHT
BEGIN:STANDARD
TZOFFSETFROM:+0100
TZOFFSETTO:+0000
TZNAME:WET
DTSTART:20171029T010000
END:STANDARD
END:VTIMEZONE
BEGIN:VEVENT
DTSTART;VALUE=DATE:20170506
DTEND;VALUE=DATE:20170507
DTSTAMP:20260420T132244
CREATED:20170410T112807Z
LAST-MODIFIED:20170410T112807Z
UID:10630-1494028800-1494115199@mdemusica.pt
SUMMARY:Wim Mertens\, Centro Cultural Olga Cadaval\, Sintra
DESCRIPTION:
URL:https://mdemusica.pt/agenda/wim-mertens-centro-cultural-olga-cadaval-sintra/
LOCATION:Centro Cultural Olga Cadaval\, Av. Dom Francisco de Almeida\, Sintra\,  2710-720\, Portugal
ATTACH;FMTTYPE=image/jpeg:https://mdemusica.pt/wp-content/uploads/2017/04/Wim-Mertens-Teatro-Municipal-Guarda.jpg
END:VEVENT
END:VCALENDAR