BEGIN:VCALENDAR
VERSION:2.0
PRODID:-//M de Música - ECPv5.14.1//NONSGML v1.0//EN
CALSCALE:GREGORIAN
METHOD:PUBLISH
X-WR-CALNAME:M de Música
X-ORIGINAL-URL:https://mdemusica.pt
X-WR-CALDESC:Events for M de Música
BEGIN:VTIMEZONE
TZID:Europe/Lisbon
BEGIN:DAYLIGHT
TZOFFSETFROM:+0000
TZOFFSETTO:+0100
TZNAME:WEST
DTSTART:20170326T010000
END:DAYLIGHT
BEGIN:STANDARD
TZOFFSETFROM:+0100
TZOFFSETTO:+0000
TZNAME:WET
DTSTART:20171029T010000
END:STANDARD
END:VTIMEZONE
BEGIN:VEVENT
DTSTART;VALUE=DATE:20171008
DTEND;VALUE=DATE:20171009
DTSTAMP:20260420T094027
CREATED:20170628T165824Z
LAST-MODIFIED:20170628T165824Z
UID:11809-1507420800-1507507199@mdemusica.pt
SUMMARY:The Swans\, Hard Club\, Porto
DESCRIPTION:
URL:https://mdemusica.pt/agenda/the-swans-hard-club-porto/
LOCATION:Hard Club\, Mercado Ferreira Borges\, Rua Infante D. Henrique\, 95 \, Porto\,  4050-252\, Portugal
ATTACH;FMTTYPE=image/jpeg:https://mdemusica.pt/wp-content/uploads/2017/06/Swans.jpg
END:VEVENT
END:VCALENDAR