BEGIN:VCALENDAR
VERSION:2.0
PRODID:-//M de Música - ECPv5.14.1//NONSGML v1.0//EN
CALSCALE:GREGORIAN
METHOD:PUBLISH
X-WR-CALNAME:M de Música
X-ORIGINAL-URL:https://mdemusica.pt
X-WR-CALDESC:Events for M de Música
BEGIN:VTIMEZONE
TZID:Europe/Lisbon
BEGIN:DAYLIGHT
TZOFFSETFROM:+0000
TZOFFSETTO:+0100
TZNAME:WEST
DTSTART:20170326T010000
END:DAYLIGHT
BEGIN:STANDARD
TZOFFSETFROM:+0100
TZOFFSETTO:+0000
TZNAME:WET
DTSTART:20171029T010000
END:STANDARD
END:VTIMEZONE
BEGIN:VEVENT
DTSTART;VALUE=DATE:20170413
DTEND;VALUE=DATE:20170415
DTSTAMP:20260420T020016
CREATED:20170227T123202Z
LAST-MODIFIED:20170227T123245Z
UID:10229-1492041600-1492214399@mdemusica.pt
SUMMARY:The Gift\, Cine Teatro\, Alcobaça
DESCRIPTION:
URL:https://mdemusica.pt/agenda/the-gift-cine-teatro-alcobaca/
LOCATION:Cine  Teatro Alcobaça\, RUA AFONSO DE ALBUQUERQUE\,  Alcobaça\, 2460-020\, Portugal
ATTACH;FMTTYPE=image/jpeg:https://mdemusica.pt/wp-content/uploads/2017/02/Altar-é-o-novo-álbum-dos-Gift.jpg
END:VEVENT
END:VCALENDAR