BEGIN:VCALENDAR
VERSION:2.0
PRODID:-//M de Música - ECPv5.14.1//NONSGML v1.0//EN
CALSCALE:GREGORIAN
METHOD:PUBLISH
X-WR-CALNAME:M de Música
X-ORIGINAL-URL:https://mdemusica.pt
X-WR-CALDESC:Events for M de Música
BEGIN:VTIMEZONE
TZID:Europe/Lisbon
BEGIN:DAYLIGHT
TZOFFSETFROM:+0000
TZOFFSETTO:+0100
TZNAME:WEST
DTSTART:20180325T010000
END:DAYLIGHT
BEGIN:STANDARD
TZOFFSETFROM:+0100
TZOFFSETTO:+0000
TZNAME:WET
DTSTART:20181028T010000
END:STANDARD
END:VTIMEZONE
BEGIN:VEVENT
DTSTART;VALUE=DATE:20180720
DTEND;VALUE=DATE:20180721
DTSTAMP:20260420T182532
CREATED:20171221T111405Z
LAST-MODIFIED:20180510T102045Z
UID:13424-1532044800-1532131199@mdemusica.pt
SUMMARY:Super Bock Super Rock\, Parque das Nações\, Lisboa
DESCRIPTION:Palco Super Bock: Anderson.Paak & The Free Nationals\, Travis Scott\, Slow J \nPalco EDP: Oddisee & Good Company\, Olivier St Louis\, Tom Minsch\, Princess Nokia\, ProfJam \nPalco Sommersby: The Alchemist\, Pierre Kwenders \nPalco LG by Rádio SBSR: Ermo\, Luís Severo\, Virtus
URL:https://mdemusica.pt/agenda/super-bock-super-rock-parque-das-nacoes-lisboa-2/
LOCATION:Parque das Nações\, Parque das Nações\, Lisboa\, Portugal
ATTACH;FMTTYPE=image/jpeg:https://mdemusica.pt/wp-content/uploads/2017/07/SBSR-2016_3_660x371.jpg
END:VEVENT
END:VCALENDAR