BEGIN:VCALENDAR
VERSION:2.0
PRODID:-//M de Música - ECPv5.14.1//NONSGML v1.0//EN
CALSCALE:GREGORIAN
METHOD:PUBLISH
X-WR-CALNAME:M de Música
X-ORIGINAL-URL:https://mdemusica.pt
X-WR-CALDESC:Events for M de Música
BEGIN:VTIMEZONE
TZID:Europe/Lisbon
BEGIN:DAYLIGHT
TZOFFSETFROM:+0000
TZOFFSETTO:+0100
TZNAME:WEST
DTSTART:20170326T010000
END:DAYLIGHT
BEGIN:STANDARD
TZOFFSETFROM:+0100
TZOFFSETTO:+0000
TZNAME:WET
DTSTART:20171029T010000
END:STANDARD
END:VTIMEZONE
BEGIN:VEVENT
DTSTART;VALUE=DATE:20170307
DTEND;VALUE=DATE:20170308
DTSTAMP:20260420T093826
CREATED:20161219T122509Z
LAST-MODIFIED:20161219T130148Z
UID:9449-1488844800-1488931199@mdemusica.pt
SUMMARY:Sonata Arctica\, Lisboa Ao Vivo
DESCRIPTION:
URL:https://mdemusica.pt/agenda/sonata-arctica-lisboa-ao-vivo/
LOCATION:Lisboa ao Vivo\, Armazém Lisboa Av. Infante Dom Henrique\, 3 \,  Lisboa\, 1950-406\, Portugal
ATTACH;FMTTYPE=image/jpeg:https://mdemusica.pt/wp-content/uploads/2016/12/sonata-artica.jpg
END:VEVENT
END:VCALENDAR