BEGIN:VCALENDAR
VERSION:2.0
PRODID:-//M de Música - ECPv5.14.1//NONSGML v1.0//EN
CALSCALE:GREGORIAN
METHOD:PUBLISH
X-WR-CALNAME:M de Música
X-ORIGINAL-URL:https://mdemusica.pt
X-WR-CALDESC:Events for M de Música
BEGIN:VTIMEZONE
TZID:Europe/Lisbon
BEGIN:DAYLIGHT
TZOFFSETFROM:+0000
TZOFFSETTO:+0100
TZNAME:WEST
DTSTART:20170326T010000
END:DAYLIGHT
BEGIN:STANDARD
TZOFFSETFROM:+0100
TZOFFSETTO:+0000
TZNAME:WET
DTSTART:20171029T010000
END:STANDARD
END:VTIMEZONE
BEGIN:VEVENT
DTSTART;VALUE=DATE:20171002
DTEND;VALUE=DATE:20171003
DTSTAMP:20260420T094232
CREATED:20170905T144528Z
LAST-MODIFIED:20170905T144528Z
UID:12379-1506902400-1506988799@mdemusica.pt
SUMMARY:Sean Riley & The Slowriders\, Teatro Municipal\, Guarda
DESCRIPTION:
URL:https://mdemusica.pt/agenda/sean-riley-the-slowriders-teatro-municipal-guarda/
LOCATION:Teatro Municipal da Guarda\, Rua Batalha Reis\, Nº 12\, GUARDA \, 6300-668 \, Portugal
ATTACH;FMTTYPE=image/jpeg:https://mdemusica.pt/wp-content/uploads/2017/09/unnamed.jpg
END:VEVENT
END:VCALENDAR