BEGIN:VCALENDAR
VERSION:2.0
PRODID:-//M de Música - ECPv5.14.1//NONSGML v1.0//EN
CALSCALE:GREGORIAN
METHOD:PUBLISH
X-WR-CALNAME:M de Música
X-ORIGINAL-URL:https://mdemusica.pt
X-WR-CALDESC:Events for M de Música
BEGIN:VTIMEZONE
TZID:Europe/Lisbon
BEGIN:DAYLIGHT
TZOFFSETFROM:+0000
TZOFFSETTO:+0100
TZNAME:WEST
DTSTART:20170326T010000
END:DAYLIGHT
BEGIN:STANDARD
TZOFFSETFROM:+0100
TZOFFSETTO:+0000
TZNAME:WET
DTSTART:20171029T010000
END:STANDARD
END:VTIMEZONE
BEGIN:VEVENT
DTSTART;VALUE=DATE:20170608
DTEND;VALUE=DATE:20170611
DTSTAMP:20260421T025115
CREATED:20170206T160822Z
LAST-MODIFIED:20170206T160839Z
UID:9813-1496880000-1497139199@mdemusica.pt
SUMMARY:NOS Primavera Sound 17'
DESCRIPTION:Bon Iver\, Aphex Twin\, Justice\, Run The Jewels\, Nicolas Jaar\, Skepta\, Miguel\, Metronomy\, Flying Lotus\, Richie Hawtin\, Sampha\, The Make-Up\, Angel Olsen\, Elza Soares\, Teenage Fanclub\, Tycho\, Hamilton Leithauser\, Whitney\, Grandaddy\, Death Grips\, Lady Wray\, Sleaford Mods\, Nikki Lane\, Jeremy Jay\, Cigarettes After Sex\, Bicep\, Mano Le Tough\, Mitski\, Julien Baker\, Weyes Blood\, Operators\, Núria Graham\, Japandroids\, The Growlers\, King Gizzard & The Lizard Wizard\, Pond\, Swans\, The Black Angels\, Royal Trux\, Shellac\, Against Me!\, Wand\, Cymbals Eat Guitars\, Rodrigo Leão & Scott Matthew\, Evols\, First Breath After Coma\, Samuel Úria
URL:https://mdemusica.pt/agenda/nos-primavera-sound/
LOCATION:Parque da Cidade\, Estrada da Circunvalação\, 15800\, Matosinhos\,  4100-183 \, Portugal
ATTACH;FMTTYPE=image/png:https://mdemusica.pt/wp-content/uploads/2017/02/nos-primavera-sound-2017.png
END:VEVENT
END:VCALENDAR