BEGIN:VCALENDAR
VERSION:2.0
PRODID:-//M de Música - ECPv5.14.1//NONSGML v1.0//EN
CALSCALE:GREGORIAN
METHOD:PUBLISH
X-WR-CALNAME:M de Música
X-ORIGINAL-URL:https://mdemusica.pt
X-WR-CALDESC:Events for M de Música
BEGIN:VTIMEZONE
TZID:Europe/Lisbon
BEGIN:DAYLIGHT
TZOFFSETFROM:+0000
TZOFFSETTO:+0100
TZNAME:WEST
DTSTART:20170326T010000
END:DAYLIGHT
BEGIN:STANDARD
TZOFFSETFROM:+0100
TZOFFSETTO:+0000
TZNAME:WET
DTSTART:20171029T010000
END:STANDARD
END:VTIMEZONE
BEGIN:VEVENT
DTSTART;VALUE=DATE:20170916
DTEND;VALUE=DATE:20170917
DTSTAMP:20260421T105446
CREATED:20170831T103000Z
LAST-MODIFIED:20170831T103000Z
UID:12328-1505520000-1505606399@mdemusica.pt
SUMMARY:Noites Ritual\, Jardins do Palácio de Cristal\, Porto
DESCRIPTION:Sean Riley & The Slowriders\, Rita Redshoes & The Ritual Band
URL:https://mdemusica.pt/agenda/noites-ritual-jardins-do-palacio-cristal-porto-2/
LOCATION:Jardins do Palácio de Cristal\,  R. de Entre-Quintas 20\, Porto\, 4050-240 Porto\, Portugal
END:VEVENT
END:VCALENDAR