BEGIN:VCALENDAR
VERSION:2.0
PRODID:-//M de Música - ECPv5.14.1//NONSGML v1.0//EN
CALSCALE:GREGORIAN
METHOD:PUBLISH
X-WR-CALNAME:M de Música
X-ORIGINAL-URL:https://mdemusica.pt
X-WR-CALDESC:Events for M de Música
BEGIN:VTIMEZONE
TZID:Europe/Lisbon
BEGIN:DAYLIGHT
TZOFFSETFROM:+0000
TZOFFSETTO:+0100
TZNAME:WEST
DTSTART:20210328T010000
END:DAYLIGHT
BEGIN:STANDARD
TZOFFSETFROM:+0100
TZOFFSETTO:+0000
TZNAME:WET
DTSTART:20211031T010000
END:STANDARD
END:VTIMEZONE
BEGIN:VEVENT
DTSTART;VALUE=DATE:20211205
DTEND;VALUE=DATE:20211206
DTSTAMP:20260420T141925
CREATED:20210922T115802Z
LAST-MODIFIED:20210922T115802Z
UID:22375-1638662400-1638748799@mdemusica.pt
SUMMARY:Mariza\, Super Bock Arena\, Porto
DESCRIPTION:
URL:https://mdemusica.pt/agenda/mariza-super-bock-arena-porto/
LOCATION:Super Bock Arena\, R. de Dom Manuel II\, Porto\, Porto\, 4050-346 Porto\, Portugal
ATTACH;FMTTYPE=image/jpeg:https://mdemusica.pt/wp-content/uploads/2021/09/unnamed4.jpg
END:VEVENT
END:VCALENDAR