BEGIN:VCALENDAR
VERSION:2.0
PRODID:-//M de Música - ECPv5.14.1//NONSGML v1.0//EN
CALSCALE:GREGORIAN
METHOD:PUBLISH
X-WR-CALNAME:M de Música
X-ORIGINAL-URL:https://mdemusica.pt
X-WR-CALDESC:Events for M de Música
BEGIN:VTIMEZONE
TZID:Europe/Lisbon
BEGIN:DAYLIGHT
TZOFFSETFROM:+0000
TZOFFSETTO:+0100
TZNAME:WEST
DTSTART:20170326T010000
END:DAYLIGHT
BEGIN:STANDARD
TZOFFSETFROM:+0100
TZOFFSETTO:+0000
TZNAME:WET
DTSTART:20171029T010000
END:STANDARD
END:VTIMEZONE
BEGIN:VEVENT
DTSTART;VALUE=DATE:20170527
DTEND;VALUE=DATE:20170528
DTSTAMP:20260420T094204
CREATED:20170511T200841Z
LAST-MODIFIED:20170511T200841Z
UID:11216-1495843200-1495929599@mdemusica.pt
SUMMARY:Mariza\, Coliseu Comendador Rondão Almeida\, Elvas
DESCRIPTION:
URL:https://mdemusica.pt/agenda/mariza-coliseu-comendador-rondao-almeida-elvas/
LOCATION:Coliseu\, Elvas
ATTACH;FMTTYPE=image/jpeg:https://mdemusica.pt/wp-content/uploads/2017/05/unnamed2-1.jpg
END:VEVENT
END:VCALENDAR