BEGIN:VCALENDAR
VERSION:2.0
PRODID:-//M de Música - ECPv5.14.1//NONSGML v1.0//EN
CALSCALE:GREGORIAN
METHOD:PUBLISH
X-WR-CALNAME:M de Música
X-ORIGINAL-URL:https://mdemusica.pt
X-WR-CALDESC:Events for M de Música
BEGIN:VTIMEZONE
TZID:Europe/Lisbon
BEGIN:DAYLIGHT
TZOFFSETFROM:+0000
TZOFFSETTO:+0100
TZNAME:WEST
DTSTART:20170326T010000
END:DAYLIGHT
BEGIN:STANDARD
TZOFFSETFROM:+0100
TZOFFSETTO:+0000
TZNAME:WET
DTSTART:20171029T010000
END:STANDARD
END:VTIMEZONE
BEGIN:VEVENT
DTSTART;VALUE=DATE:20170216
DTEND;VALUE=DATE:20170217
DTSTAMP:20260420T094233
CREATED:20170206T171101Z
LAST-MODIFIED:20170206T171101Z
UID:9905-1487203200-1487289599@mdemusica.pt
SUMMARY:Mariana Aydar & Dani Black\, Teatro Garcia Resende\, Évora
DESCRIPTION:
URL:https://mdemusica.pt/agenda/mariana-aydar-dani-black-teatro-garcia-resende-evora/
LOCATION:TEATRO GARCIA DE RESENDE\, Praça Joaquim António de Aguiar \, Évora\, Praça Joaquim António de Aguiar 7000-510 \, Portugal
ATTACH;FMTTYPE=image/jpeg:https://mdemusica.pt/wp-content/uploads/2017/02/Mariana-Aydar-Dani-Black-Auditório-Espinho.jpg
END:VEVENT
END:VCALENDAR