BEGIN:VCALENDAR
VERSION:2.0
PRODID:-//M de Música - ECPv5.14.1//NONSGML v1.0//EN
CALSCALE:GREGORIAN
METHOD:PUBLISH
X-WR-CALNAME:M de Música
X-ORIGINAL-URL:https://mdemusica.pt
X-WR-CALDESC:Events for M de Música
BEGIN:VTIMEZONE
TZID:Europe/Lisbon
BEGIN:DAYLIGHT
TZOFFSETFROM:+0000
TZOFFSETTO:+0100
TZNAME:WEST
DTSTART:20170326T010000
END:DAYLIGHT
BEGIN:STANDARD
TZOFFSETFROM:+0100
TZOFFSETTO:+0000
TZNAME:WET
DTSTART:20171029T010000
END:STANDARD
END:VTIMEZONE
BEGIN:VEVENT
DTSTART;VALUE=DATE:20170227
DTEND;VALUE=DATE:20170228
DTSTAMP:20260420T094138
CREATED:20170227T112328Z
LAST-MODIFIED:20170227T112328Z
UID:10128-1488153600-1488239999@mdemusica.pt
SUMMARY:Manuel Fúria & Os Náufragos\, Lux-Frágil
DESCRIPTION:
URL:https://mdemusica.pt/agenda/manuel-furia-os-naufragos-lux-fragil/
LOCATION:LuxFrágil\, Av. Infante D. Henrique\, Armazém A Cais da Pedra A Sta. Apolónia\, Lisboa\, 1950-376\, Portugal
ATTACH;FMTTYPE=image/png:https://mdemusica.pt/wp-content/uploads/2017/02/Viva-Fúria-nas-lojas-a-3-de-Março.png
END:VEVENT
END:VCALENDAR