BEGIN:VCALENDAR
VERSION:2.0
PRODID:-//M de Música - ECPv5.14.1//NONSGML v1.0//EN
CALSCALE:GREGORIAN
METHOD:PUBLISH
X-WR-CALNAME:M de Música
X-ORIGINAL-URL:https://mdemusica.pt
X-WR-CALDESC:Events for M de Música
BEGIN:VTIMEZONE
TZID:Europe/Lisbon
BEGIN:DAYLIGHT
TZOFFSETFROM:+0000
TZOFFSETTO:+0100
TZNAME:WEST
DTSTART:20160327T010000
END:DAYLIGHT
BEGIN:STANDARD
TZOFFSETFROM:+0100
TZOFFSETTO:+0000
TZNAME:WET
DTSTART:20161030T010000
END:STANDARD
END:VTIMEZONE
BEGIN:VEVENT
DTSTART;VALUE=DATE:20160916
DTEND;VALUE=DATE:20160917
DTSTAMP:20260420T105934
CREATED:20160819T140653Z
LAST-MODIFIED:20160819T140653Z
UID:8201-1473984000-1474070399@mdemusica.pt
SUMMARY:Lloyd Cole
DESCRIPTION:– Teatro Municipal\, Guarda
URL:https://mdemusica.pt/agenda/lloyd-cole-guarda/
LOCATION:Teatro Municipal da Guarda\, Rua Batalha Reis\, Nº 12\, GUARDA \, 6300-668 \, Portugal
END:VEVENT
END:VCALENDAR