BEGIN:VCALENDAR
VERSION:2.0
PRODID:-//M de Música - ECPv5.14.1//NONSGML v1.0//EN
CALSCALE:GREGORIAN
METHOD:PUBLISH
X-WR-CALNAME:M de Música
X-ORIGINAL-URL:https://mdemusica.pt
X-WR-CALDESC:Events for M de Música
BEGIN:VTIMEZONE
TZID:Europe/Lisbon
BEGIN:DAYLIGHT
TZOFFSETFROM:+0000
TZOFFSETTO:+0100
TZNAME:WEST
DTSTART:20160327T010000
END:DAYLIGHT
BEGIN:STANDARD
TZOFFSETFROM:+0100
TZOFFSETTO:+0000
TZNAME:WET
DTSTART:20161030T010000
END:STANDARD
END:VTIMEZONE
BEGIN:VEVENT
DTSTART;VALUE=DATE:20160915
DTEND;VALUE=DATE:20160916
DTSTAMP:20260420T122643
CREATED:20160819T133327Z
LAST-MODIFIED:20160819T133327Z
UID:8199-1473897600-1473983999@mdemusica.pt
SUMMARY:Lloyd Cole
DESCRIPTION:– Centro Cultural de Belém\, Lisboa
URL:https://mdemusica.pt/agenda/lloyd-cole-2/
LOCATION:Centro Cultural de Belém\, Praça do Império\, \, Lisboa\, 1449-003 \, Portugal
END:VEVENT
END:VCALENDAR