BEGIN:VCALENDAR
VERSION:2.0
PRODID:-//M de Música - ECPv5.14.1//NONSGML v1.0//EN
CALSCALE:GREGORIAN
METHOD:PUBLISH
X-WR-CALNAME:M de Música
X-ORIGINAL-URL:https://mdemusica.pt
X-WR-CALDESC:Events for M de Música
BEGIN:VTIMEZONE
TZID:Europe/Lisbon
BEGIN:DAYLIGHT
TZOFFSETFROM:+0000
TZOFFSETTO:+0100
TZNAME:WEST
DTSTART:20200329T010000
END:DAYLIGHT
BEGIN:STANDARD
TZOFFSETFROM:+0100
TZOFFSETTO:+0000
TZNAME:WET
DTSTART:20201025T010000
END:STANDARD
END:VTIMEZONE
BEGIN:VEVENT
DTSTART;VALUE=DATE:20200712
DTEND;VALUE=DATE:20200713
DTSTAMP:20260420T202127
CREATED:20200701T103802Z
LAST-MODIFIED:20200701T104716Z
UID:20932-1594512000-1594598399@mdemusica.pt
SUMMARY:Lavoisier apresentam “Viagem a um Reino Maravilhoso”\, Takeover #1\, Teatro Municipal São Luiz\, Lisboa
DESCRIPTION:
URL:https://mdemusica.pt/agenda/lavoisier-apresentam-viagem-um-reio-maravilhoso-takeover-1-teatro-municipal-sao-luiz-lisboa/
LOCATION:Teatro São Luiz\,  R. António Maria Cardoso 38\, \, Lisboa\, 1200-027 \, Portugal
ATTACH;FMTTYPE=image/png:https://mdemusica.pt/wp-content/uploads/2020/07/unnamed.png
END:VEVENT
END:VCALENDAR