BEGIN:VCALENDAR
VERSION:2.0
PRODID:-//M de Música - ECPv5.14.1//NONSGML v1.0//EN
CALSCALE:GREGORIAN
METHOD:PUBLISH
X-WR-CALNAME:M de Música
X-ORIGINAL-URL:https://mdemusica.pt
X-WR-CALDESC:Events for M de Música
BEGIN:VTIMEZONE
TZID:Europe/Lisbon
BEGIN:DAYLIGHT
TZOFFSETFROM:+0000
TZOFFSETTO:+0100
TZNAME:WEST
DTSTART:20190331T010000
END:DAYLIGHT
BEGIN:STANDARD
TZOFFSETFROM:+0100
TZOFFSETTO:+0000
TZNAME:WET
DTSTART:20191027T010000
END:STANDARD
END:VTIMEZONE
BEGIN:VEVENT
DTSTART;VALUE=DATE:20190731
DTEND;VALUE=DATE:20190801
DTSTAMP:20260423T093820
CREATED:20190116T162141Z
LAST-MODIFIED:20190116T162141Z
UID:17081-1564531200-1564617599@mdemusica.pt
SUMMARY:Kraftwerk\, EDPCOOLJAZZ\, Hipódromo Manuel Possolo\, Cascais
DESCRIPTION:
URL:https://mdemusica.pt/agenda/kraftwerk-edpcooljazz-hipodromo-manuel-possolo-cascais/
LOCATION:Hipodromo Manuel Possolo\, Av. da República 371\, Cascais\, Cascais\, 2750-642
ATTACH;FMTTYPE=image/jpeg:https://mdemusica.pt/wp-content/uploads/2019/01/rs-207000-1.jpg
ORGANIZER;CN="Live%20Experiences":MAILTO:info@liveexperiences.pt
END:VEVENT
END:VCALENDAR