BEGIN:VCALENDAR
VERSION:2.0
PRODID:-//M de Música - ECPv5.14.1//NONSGML v1.0//EN
CALSCALE:GREGORIAN
METHOD:PUBLISH
X-WR-CALNAME:M de Música
X-ORIGINAL-URL:https://mdemusica.pt
X-WR-CALDESC:Events for M de Música
BEGIN:VTIMEZONE
TZID:Europe/Lisbon
BEGIN:DAYLIGHT
TZOFFSETFROM:+0000
TZOFFSETTO:+0100
TZNAME:WEST
DTSTART:20220327T010000
END:DAYLIGHT
BEGIN:STANDARD
TZOFFSETFROM:+0100
TZOFFSETTO:+0000
TZNAME:WET
DTSTART:20221030T010000
END:STANDARD
END:VTIMEZONE
BEGIN:VEVENT
DTSTART;VALUE=DATE:20220212
DTEND;VALUE=DATE:20220213
DTSTAMP:20260420T202109
CREATED:20211231T113255Z
LAST-MODIFIED:20211231T113255Z
UID:22792-1644624000-1644710399@mdemusica.pt
SUMMARY:Jorge Palma\, Montepio Às Vezes o Amor\, Cine-Teatro Avenida\, Aveiro
DESCRIPTION:
URL:https://mdemusica.pt/agenda/jorge-palma-montepio-as-vezes-amor-cine-teatro-avenida-aveiro/
LOCATION:Cine-Teatro Avenida\,  Av. Gen. Humberto Delgado\, 6000-081 Castelo Branco\, 6000-081 Castelo Branco
ATTACH;FMTTYPE=image/jpeg:https://mdemusica.pt/wp-content/uploads/2021/12/index.jpg
END:VEVENT
END:VCALENDAR