BEGIN:VCALENDAR
VERSION:2.0
PRODID:-//M de Música - ECPv5.14.1//NONSGML v1.0//EN
CALSCALE:GREGORIAN
METHOD:PUBLISH
X-WR-CALNAME:M de Música
X-ORIGINAL-URL:https://mdemusica.pt
X-WR-CALDESC:Events for M de Música
BEGIN:VTIMEZONE
TZID:Europe/Lisbon
BEGIN:DAYLIGHT
TZOFFSETFROM:+0000
TZOFFSETTO:+0100
TZNAME:WEST
DTSTART:20210328T010000
END:DAYLIGHT
BEGIN:STANDARD
TZOFFSETFROM:+0100
TZOFFSETTO:+0000
TZNAME:WET
DTSTART:20211031T010000
END:STANDARD
END:VTIMEZONE
BEGIN:VEVENT
DTSTART;VALUE=DATE:20211207
DTEND;VALUE=DATE:20211208
DTSTAMP:20260420T154638
CREATED:20201009T125611Z
LAST-MODIFIED:20201127T155259Z
UID:21417-1638835200-1638921599@mdemusica.pt
SUMMARY:A Garota Não\, Produtores Associados no Maria Matos\, Teatro Maria Matos\, Lisboa
DESCRIPTION:
URL:https://mdemusica.pt/agenda/garota-nao-produtores-associados-no-maria-matos-teatro-maria-matos-lisboa/
LOCATION:Teatro Maria Matos\, Av. Frei Miguel Contreiras 52\, Lisboa\, 1700-213 Lisboa\, Portugal
ATTACH;FMTTYPE=image/jpeg:https://mdemusica.pt/wp-content/uploads/2020/10/unnamed-1.jpg
END:VEVENT
END:VCALENDAR