BEGIN:VCALENDAR
VERSION:2.0
PRODID:-//M de Música - ECPv5.14.1//NONSGML v1.0//EN
CALSCALE:GREGORIAN
METHOD:PUBLISH
X-WR-CALNAME:M de Música
X-ORIGINAL-URL:https://mdemusica.pt
X-WR-CALDESC:Events for M de Música
BEGIN:VTIMEZONE
TZID:Europe/Lisbon
BEGIN:DAYLIGHT
TZOFFSETFROM:+0000
TZOFFSETTO:+0100
TZNAME:WEST
DTSTART:20200329T010000
END:DAYLIGHT
BEGIN:STANDARD
TZOFFSETFROM:+0100
TZOFFSETTO:+0000
TZNAME:WET
DTSTART:20201025T010000
END:STANDARD
END:VTIMEZONE
BEGIN:VEVENT
DTSTART;VALUE=DATE:20201217
DTEND;VALUE=DATE:20201220
DTSTAMP:20260420T142845
CREATED:20201030T103514Z
LAST-MODIFIED:20201030T103514Z
UID:21501-1608163200-1608422399@mdemusica.pt
SUMMARY:Festival para Gente Sentada\, Theatro Circo\, Braga
DESCRIPTION:
URL:https://mdemusica.pt/agenda/festival-gente-sentada-theatro-circo-braga/
LOCATION:Theatro Circo\, Avenida da Liberdade\, 697 \, Braga\, 4710-251\, Portugal
ATTACH;FMTTYPE=image/png:https://mdemusica.pt/wp-content/uploads/2020/10/Screen-Shot-2020-10-30-at-10.32.06.png
END:VEVENT
END:VCALENDAR