BEGIN:VCALENDAR
VERSION:2.0
PRODID:-//M de Música - ECPv5.14.1//NONSGML v1.0//EN
CALSCALE:GREGORIAN
METHOD:PUBLISH
X-WR-CALNAME:M de Música
X-ORIGINAL-URL:https://mdemusica.pt
X-WR-CALDESC:Events for M de Música
BEGIN:VTIMEZONE
TZID:Europe/Lisbon
BEGIN:DAYLIGHT
TZOFFSETFROM:+0000
TZOFFSETTO:+0100
TZNAME:WEST
DTSTART:20170326T010000
END:DAYLIGHT
BEGIN:STANDARD
TZOFFSETFROM:+0100
TZOFFSETTO:+0000
TZNAME:WET
DTSTART:20171029T010000
END:STANDARD
END:VTIMEZONE
BEGIN:VEVENT
DTSTART;VALUE=DATE:20170728
DTEND;VALUE=DATE:20170729
DTSTAMP:20260420T234503
CREATED:20170710T171221Z
LAST-MODIFIED:20170710T171221Z
UID:11988-1501200000-1501286399@mdemusica.pt
SUMMARY:Festival Folk Celta\, Praça Terras da Nóbrega\, Ponte da Barca
DESCRIPTION:Diabo a Sete\, Xabier Diaz & Adufeiras de Salitre\, Kalakan feat. Luís Peixoto\, Quique Escamilla\, Chulada da Ponte Velha\, Enraizarte
URL:https://mdemusica.pt/agenda/festival-folk-celta-praca-terras-da-nobrega-ponte-da-barca/
LOCATION:Praça Terras da Nóbrega\, Ponte da Barca\, Portugal
ATTACH;FMTTYPE=image/png:https://mdemusica.pt/wp-content/uploads/2017/07/Banner-Folk-Celta-10ª-Edição.png
END:VEVENT
END:VCALENDAR