BEGIN:VCALENDAR
VERSION:2.0
PRODID:-//M de Música - ECPv5.14.1//NONSGML v1.0//EN
CALSCALE:GREGORIAN
METHOD:PUBLISH
X-WR-CALNAME:M de Música
X-ORIGINAL-URL:https://mdemusica.pt
X-WR-CALDESC:Events for M de Música
BEGIN:VTIMEZONE
TZID:Europe/Lisbon
BEGIN:DAYLIGHT
TZOFFSETFROM:+0000
TZOFFSETTO:+0100
TZNAME:WEST
DTSTART:20190331T010000
END:DAYLIGHT
BEGIN:STANDARD
TZOFFSETFROM:+0100
TZOFFSETTO:+0000
TZNAME:WET
DTSTART:20191027T010000
END:STANDARD
END:VTIMEZONE
BEGIN:VEVENT
DTSTART;VALUE=DATE:20190827
DTEND;VALUE=DATE:20190901
DTSTAMP:20260420T184539
CREATED:20190304T145626Z
LAST-MODIFIED:20190304T145626Z
UID:17653-1566864000-1567295999@mdemusica.pt
SUMMARY:Festival do Crato\, Crato
DESCRIPTION:Ivete Sangalo
URL:https://mdemusica.pt/agenda/festival-do-crato-crato-2/
LOCATION:Festival do Crato\, Crato\, Portalegre\, Portugal
ATTACH;FMTTYPE=image/png:https://mdemusica.pt/wp-content/uploads/2019/03/Screen-Shot-2019-03-04-at-14.54.46.png
END:VEVENT
END:VCALENDAR