BEGIN:VCALENDAR
VERSION:2.0
PRODID:-//M de Música - ECPv5.14.1//NONSGML v1.0//EN
CALSCALE:GREGORIAN
METHOD:PUBLISH
X-WR-CALNAME:M de Música
X-ORIGINAL-URL:https://mdemusica.pt
X-WR-CALDESC:Events for M de Música
BEGIN:VTIMEZONE
TZID:Europe/Lisbon
BEGIN:DAYLIGHT
TZOFFSETFROM:+0000
TZOFFSETTO:+0100
TZNAME:WEST
DTSTART:20180325T010000
END:DAYLIGHT
BEGIN:STANDARD
TZOFFSETFROM:+0100
TZOFFSETTO:+0000
TZNAME:WET
DTSTART:20181028T010000
END:STANDARD
END:VTIMEZONE
BEGIN:VEVENT
DTSTART;VALUE=DATE:20180517
DTEND;VALUE=DATE:20180518
DTSTAMP:20260420T234315
CREATED:20180317T162313Z
LAST-MODIFIED:20180317T162313Z
UID:14393-1526515200-1526601599@mdemusica.pt
SUMMARY:Dead Combo\, Teatro Louletano\, Loulé
DESCRIPTION:
URL:https://mdemusica.pt/agenda/dead-combo-teatro-louletano-loule/
LOCATION:Cine-Teatro Louletano\, Avenida José da Costa Mealha\, Loulé\,  8100-501\, Portugal
ATTACH;FMTTYPE=image/jpeg:https://mdemusica.pt/wp-content/uploads/2018/03/dead_combo.jpg
END:VEVENT
END:VCALENDAR