BEGIN:VCALENDAR
VERSION:2.0
PRODID:-//M de Música - ECPv5.14.1//NONSGML v1.0//EN
CALSCALE:GREGORIAN
METHOD:PUBLISH
X-WR-CALNAME:M de Música
X-ORIGINAL-URL:https://mdemusica.pt
X-WR-CALDESC:Events for M de Música
BEGIN:VTIMEZONE
TZID:Europe/Lisbon
BEGIN:DAYLIGHT
TZOFFSETFROM:+0000
TZOFFSETTO:+0100
TZNAME:WEST
DTSTART:20160327T010000
END:DAYLIGHT
BEGIN:STANDARD
TZOFFSETFROM:+0100
TZOFFSETTO:+0000
TZNAME:WET
DTSTART:20161030T010000
END:STANDARD
END:VTIMEZONE
BEGIN:VEVENT
DTSTART;VALUE=DATE:20161201
DTEND;VALUE=DATE:20161202
DTSTAMP:20260421T092918
CREATED:20161108T155431Z
LAST-MODIFIED:20161214T154914Z
UID:9052-1480550400-1480636799@mdemusica.pt
SUMMARY:Crystal Fighters
DESCRIPTION:Paradise Garage\, Lisboa
URL:https://mdemusica.pt/agenda/crystal-fighters/
LOCATION:Paradise Garage\, Rua João Oliveira Miguéns\, 38-48\, Alcântara \, Lisboa\,  1350-187\, Portugal
ATTACH;FMTTYPE=image/jpeg:https://mdemusica.pt/wp-content/uploads/2016/11/ImageServer.jpeg
END:VEVENT
END:VCALENDAR