BEGIN:VCALENDAR
VERSION:2.0
PRODID:-//M de Música - ECPv5.14.1//NONSGML v1.0//EN
CALSCALE:GREGORIAN
METHOD:PUBLISH
X-WR-CALNAME:M de Música
X-ORIGINAL-URL:https://mdemusica.pt
X-WR-CALDESC:Events for M de Música
BEGIN:VTIMEZONE
TZID:Europe/Lisbon
BEGIN:DAYLIGHT
TZOFFSETFROM:+0000
TZOFFSETTO:+0100
TZNAME:WEST
DTSTART:20170326T010000
END:DAYLIGHT
BEGIN:STANDARD
TZOFFSETFROM:+0100
TZOFFSETTO:+0000
TZNAME:WET
DTSTART:20171029T010000
END:STANDARD
END:VTIMEZONE
BEGIN:VEVENT
DTSTART;VALUE=DATE:20170707
DTEND;VALUE=DATE:20170708
DTSTAMP:20260421T044945
CREATED:20170605T154214Z
LAST-MODIFIED:20170605T154214Z
UID:11614-1499385600-1499471999@mdemusica.pt
SUMMARY:Ciclo Julho É de Jazz: Evan Parker\, Slow Is Possible\, GNRNation\, Braga
DESCRIPTION:
URL:https://mdemusica.pt/agenda/ciclo-julho-jazz-evan-parker-slow-is-possible-gnrnation-braga/
LOCATION:GNRation\, Praça Conde de Agrolongo \,  Braga\, 4700-312\, Portugal
ATTACH;FMTTYPE=image/jpeg:https://mdemusica.pt/wp-content/uploads/2017/06/parker.jpg
END:VEVENT
END:VCALENDAR