BEGIN:VCALENDAR
VERSION:2.0
PRODID:-//M de Música - ECPv5.14.1//NONSGML v1.0//EN
CALSCALE:GREGORIAN
METHOD:PUBLISH
X-WR-CALNAME:M de Música
X-ORIGINAL-URL:https://mdemusica.pt
X-WR-CALDESC:Events for M de Música
BEGIN:VTIMEZONE
TZID:Europe/Lisbon
BEGIN:DAYLIGHT
TZOFFSETFROM:+0000
TZOFFSETTO:+0100
TZNAME:WEST
DTSTART:20170326T010000
END:DAYLIGHT
BEGIN:STANDARD
TZOFFSETFROM:+0100
TZOFFSETTO:+0000
TZNAME:WET
DTSTART:20171029T010000
END:STANDARD
END:VTIMEZONE
BEGIN:VEVENT
DTSTART;VALUE=DATE:20170211
DTEND;VALUE=DATE:20170212
DTSTAMP:20260422T110655
CREATED:20170206T175302Z
LAST-MODIFIED:20170206T175302Z
UID:9944-1486771200-1486857599@mdemusica.pt
SUMMARY:Capitão Fausto\, Theatro Circo\, Braga
DESCRIPTION:
URL:https://mdemusica.pt/agenda/capitao-fausto-theatro-circo-braga/
LOCATION:Theatro Circo\, Avenida da Liberdade\, 697 \, Braga\, 4710-251\, Portugal
ATTACH;FMTTYPE=image/jpeg:https://mdemusica.pt/wp-content/uploads/2016/10/Capitão-Fausto-contam-os-dias-até-ao-Coliseu.jpg
END:VEVENT
END:VCALENDAR