BEGIN:VCALENDAR
VERSION:2.0
PRODID:-//M de Música - ECPv5.14.1//NONSGML v1.0//EN
CALSCALE:GREGORIAN
METHOD:PUBLISH
X-WR-CALNAME:M de Música
X-ORIGINAL-URL:https://mdemusica.pt
X-WR-CALDESC:Events for M de Música
BEGIN:VTIMEZONE
TZID:Europe/Lisbon
BEGIN:DAYLIGHT
TZOFFSETFROM:+0000
TZOFFSETTO:+0100
TZNAME:WEST
DTSTART:20190331T010000
END:DAYLIGHT
BEGIN:STANDARD
TZOFFSETFROM:+0100
TZOFFSETTO:+0000
TZNAME:WET
DTSTART:20191027T010000
END:STANDARD
END:VTIMEZONE
BEGIN:VEVENT
DTSTART;VALUE=DATE:20190908
DTEND;VALUE=DATE:20190909
DTSTAMP:20260420T233836
CREATED:20190611T163548Z
LAST-MODIFIED:20190611T163548Z
UID:18521-1567900800-1567987199@mdemusica.pt
SUMMARY:Brunch Electronik - In The Park\, Tapada da Ajuda\, Lisboa
DESCRIPTION:Maceo Plex\, Patrice Bäumel\, Jennifer Cardini\, Cardia
URL:https://mdemusica.pt/agenda/brunch-electronik-in-the-park-tapada-da-ajuda-lisboa-13/
LOCATION:Tapada da Ajuda\, Lisboa
END:VEVENT
END:VCALENDAR