BEGIN:VCALENDAR
VERSION:2.0
PRODID:-//M de Música - ECPv5.14.1//NONSGML v1.0//EN
CALSCALE:GREGORIAN
METHOD:PUBLISH
X-WR-CALNAME:M de Música
X-ORIGINAL-URL:https://mdemusica.pt
X-WR-CALDESC:Events for M de Música
BEGIN:VTIMEZONE
TZID:Europe/Lisbon
BEGIN:DAYLIGHT
TZOFFSETFROM:+0000
TZOFFSETTO:+0100
TZNAME:WEST
DTSTART:20170326T010000
END:DAYLIGHT
BEGIN:STANDARD
TZOFFSETFROM:+0100
TZOFFSETTO:+0000
TZNAME:WET
DTSTART:20171029T010000
END:STANDARD
END:VTIMEZONE
BEGIN:VEVENT
DTSTART;VALUE=DATE:20170414
DTEND;VALUE=DATE:20170415
DTSTAMP:20260420T105859
CREATED:20170320T164347Z
LAST-MODIFIED:20170320T164347Z
UID:10443-1492128000-1492214399@mdemusica.pt
SUMMARY:Binhan\, B.Leza
DESCRIPTION:
URL:https://mdemusica.pt/agenda/binhan-b-leza/
LOCATION:B. Leza\, Rua da Cintura do Porto de Lisboa\, Armazém B (Cais do Sodré)\,\, Lisboa
ATTACH;FMTTYPE=image/png:https://mdemusica.pt/wp-content/uploads/2017/03/Binhan-B.Leza-Lisboa.png
END:VEVENT
END:VCALENDAR