BEGIN:VCALENDAR
VERSION:2.0
PRODID:-//M de Música - ECPv5.14.1//NONSGML v1.0//EN
CALSCALE:GREGORIAN
METHOD:PUBLISH
X-WR-CALNAME:M de Música
X-ORIGINAL-URL:https://mdemusica.pt
X-WR-CALDESC:Events for M de Música
BEGIN:VTIMEZONE
TZID:Europe/Lisbon
BEGIN:DAYLIGHT
TZOFFSETFROM:+0000
TZOFFSETTO:+0100
TZNAME:WEST
DTSTART:20190331T010000
END:DAYLIGHT
BEGIN:STANDARD
TZOFFSETFROM:+0100
TZOFFSETTO:+0000
TZNAME:WET
DTSTART:20191027T010000
END:STANDARD
END:VTIMEZONE
BEGIN:VEVENT
DTSTART;VALUE=DATE:20190606
DTEND;VALUE=DATE:20190607
DTSTAMP:20260421T013251
CREATED:20190304T144731Z
LAST-MODIFIED:20190304T144731Z
UID:17644-1559779200-1559865599@mdemusica.pt
SUMMARY:Benjamin Clementine\, Teatro Municipal\, Guarda
DESCRIPTION:
URL:https://mdemusica.pt/agenda/benjamin-clementine-teatro-municipal-guarda/
LOCATION:Teatro Municipal da Guarda\, Rua Batalha Reis\, Nº 12\, GUARDA \, 6300-668 \, Portugal
ATTACH;FMTTYPE=image/jpeg:https://mdemusica.pt/wp-content/uploads/2019/03/unnamed-1.jpg
END:VEVENT
END:VCALENDAR