BEGIN:VCALENDAR
VERSION:2.0
PRODID:-//M de Música - ECPv5.14.1//NONSGML v1.0//EN
CALSCALE:GREGORIAN
METHOD:PUBLISH
X-WR-CALNAME:M de Música
X-ORIGINAL-URL:https://mdemusica.pt
X-WR-CALDESC:Events for M de Música
BEGIN:VTIMEZONE
TZID:Europe/Lisbon
BEGIN:DAYLIGHT
TZOFFSETFROM:+0000
TZOFFSETTO:+0100
TZNAME:WEST
DTSTART:20190331T010000
END:DAYLIGHT
BEGIN:STANDARD
TZOFFSETFROM:+0100
TZOFFSETTO:+0000
TZNAME:WET
DTSTART:20191027T010000
END:STANDARD
END:VTIMEZONE
BEGIN:VEVENT
DTSTART;VALUE=DATE:20190301
DTEND;VALUE=DATE:20190303
DTSTAMP:20260419T223123
CREATED:20181030T153039Z
LAST-MODIFIED:20181219T142243Z
UID:16179-1551398400-1551571199@mdemusica.pt
SUMMARY:António Zambujo\, Coliseu dos Recreios\, Lisboa
DESCRIPTION:
URL:https://mdemusica.pt/agenda/antonio-zambujo-coliseu-dos-recreios-lisboa-2/
ATTACH;FMTTYPE=image/png:https://mdemusica.pt/wp-content/uploads/2018/10/unnamed-1.png
END:VEVENT
END:VCALENDAR