BEGIN:VCALENDAR
VERSION:2.0
PRODID:-//M de Música - ECPv5.14.1//NONSGML v1.0//EN
CALSCALE:GREGORIAN
METHOD:PUBLISH
X-WR-CALNAME:M de Música
X-ORIGINAL-URL:https://mdemusica.pt
X-WR-CALDESC:Events for M de Música
BEGIN:VTIMEZONE
TZID:Europe/Lisbon
BEGIN:DAYLIGHT
TZOFFSETFROM:+0000
TZOFFSETTO:+0100
TZNAME:WEST
DTSTART:20200329T010000
END:DAYLIGHT
BEGIN:STANDARD
TZOFFSETFROM:+0100
TZOFFSETTO:+0000
TZNAME:WET
DTSTART:20201025T010000
END:STANDARD
END:VTIMEZONE
BEGIN:VEVENT
DTSTART;VALUE=DATE:20200716
DTEND;VALUE=DATE:20200717
DTSTAMP:20260420T172126
CREATED:20200608T122943Z
LAST-MODIFIED:20200608T122943Z
UID:20806-1594857600-1594943999@mdemusica.pt
SUMMARY:André Henriques\, Theatro Circo\, Braga
DESCRIPTION:
URL:https://mdemusica.pt/agenda/andre-henriques-theatro-circo-braga/
LOCATION:Theatro Circo\, Avenida da Liberdade\, 697 \, Braga\, 4710-251\, Portugal
ATTACH;FMTTYPE=image/jpeg:https://mdemusica.pt/wp-content/uploads/2020/06/unnamed-1.jpg
ORGANIZER;CN="Arruada":MAILTO:info@arruada.pt
END:VEVENT
END:VCALENDAR