BEGIN:VCALENDAR
VERSION:2.0
PRODID:-//M de Música - ECPv5.14.1//NONSGML v1.0//EN
CALSCALE:GREGORIAN
METHOD:PUBLISH
X-WR-CALNAME:M de Música
X-ORIGINAL-URL:https://mdemusica.pt
X-WR-CALDESC:Events for M de Música
BEGIN:VTIMEZONE
TZID:Europe/Lisbon
BEGIN:DAYLIGHT
TZOFFSETFROM:+0000
TZOFFSETTO:+0100
TZNAME:WEST
DTSTART:20200329T010000
END:DAYLIGHT
BEGIN:STANDARD
TZOFFSETFROM:+0100
TZOFFSETTO:+0000
TZNAME:WET
DTSTART:20201025T010000
END:STANDARD
END:VTIMEZONE
BEGIN:VEVENT
DTSTART;VALUE=DATE:20201210
DTEND;VALUE=DATE:20201211
DTSTAMP:20260420T165425
CREATED:20200925T113503Z
LAST-MODIFIED:20200925T113503Z
UID:21286-1607558400-1607644799@mdemusica.pt
SUMMARY:André Henriques\, Capitólio\, Lisboa
DESCRIPTION:
URL:https://mdemusica.pt/agenda/andre-henriques-capitolio-lisboa/
LOCATION:Capitólio\, Parque Mayer\, Lisboa\, 1250-164 Lisboa\, Portugal
ATTACH;FMTTYPE=image/jpeg:https://mdemusica.pt/wp-content/uploads/2020/06/unnamed-1.jpg
END:VEVENT
END:VCALENDAR