BEGIN:VCALENDAR
VERSION:2.0
PRODID:-//M de Música - ECPv5.14.1//NONSGML v1.0//EN
CALSCALE:GREGORIAN
METHOD:PUBLISH
X-WR-CALNAME:M de Música
X-ORIGINAL-URL:https://mdemusica.pt
X-WR-CALDESC:Events for M de Música
BEGIN:VTIMEZONE
TZID:Europe/Lisbon
BEGIN:DAYLIGHT
TZOFFSETFROM:+0000
TZOFFSETTO:+0100
TZNAME:WEST
DTSTART:20170326T010000
END:DAYLIGHT
BEGIN:STANDARD
TZOFFSETFROM:+0100
TZOFFSETTO:+0000
TZNAME:WET
DTSTART:20171029T010000
END:STANDARD
END:VTIMEZONE
BEGIN:VEVENT
DTSTART;TZID=Europe/Lisbon:20170519T080000
DTEND;TZID=Europe/Lisbon:20170519T170000
DTSTAMP:20260420T093750
CREATED:20170410T115942Z
LAST-MODIFIED:20170410T115942Z
UID:10647-1495180800-1495213200@mdemusica.pt
SUMMARY:Aline Frazão\, Auditório de Espinho
DESCRIPTION:
URL:https://mdemusica.pt/agenda/aline-frazao-auditorio-espinho/
LOCATION:Auditório de Espinho\, Rua 34\, nº884 –\, Espinho\,  4500-318 \, Portugal
ATTACH;FMTTYPE=image/jpeg:https://mdemusica.pt/wp-content/uploads/2016/11/programa21-1.jpg
END:VEVENT
END:VCALENDAR