BEGIN:VCALENDAR
VERSION:2.0
PRODID:-//M de Música - ECPv5.14.1//NONSGML v1.0//EN
CALSCALE:GREGORIAN
METHOD:PUBLISH
X-WR-CALNAME:M de Música
X-ORIGINAL-URL:https://mdemusica.pt
X-WR-CALDESC:Events for M de Música
BEGIN:VTIMEZONE
TZID:Europe/Lisbon
BEGIN:DAYLIGHT
TZOFFSETFROM:+0000
TZOFFSETTO:+0100
TZNAME:WEST
DTSTART:20170326T010000
END:DAYLIGHT
BEGIN:STANDARD
TZOFFSETFROM:+0100
TZOFFSETTO:+0000
TZNAME:WET
DTSTART:20171029T010000
END:STANDARD
END:VTIMEZONE
BEGIN:VEVENT
DTSTART;VALUE=DATE:20170917
DTEND;VALUE=DATE:20170918
DTSTAMP:20260421T121113
CREATED:20170803T144945Z
LAST-MODIFIED:20170803T144945Z
UID:12198-1505606400-1505692799@mdemusica.pt
SUMMARY:Alexander Search\, Cine-Teatro Avenida\, Castelo Branco
DESCRIPTION:
URL:https://mdemusica.pt/agenda/alexander-search-cine-teatro-avenida-castelo-branco/
LOCATION:Cine-Teatro Avenida\,  Av. Gen. Humberto Delgado\, 6000-081 Castelo Branco\, 6000-081 Castelo Branco
ATTACH;FMTTYPE=image/png:https://mdemusica.pt/wp-content/uploads/2017/08/unnamed1.png
END:VEVENT
END:VCALENDAR