BEGIN:VCALENDAR
VERSION:2.0
PRODID:-//M de Música - ECPv5.14.1//NONSGML v1.0//EN
CALSCALE:GREGORIAN
METHOD:PUBLISH
X-WR-CALNAME:M de Música
X-ORIGINAL-URL:https://mdemusica.pt
X-WR-CALDESC:Events for M de Música
BEGIN:VTIMEZONE
TZID:Europe/Lisbon
BEGIN:DAYLIGHT
TZOFFSETFROM:+0000
TZOFFSETTO:+0100
TZNAME:WEST
DTSTART:20170326T010000
END:DAYLIGHT
BEGIN:STANDARD
TZOFFSETFROM:+0100
TZOFFSETTO:+0000
TZNAME:WET
DTSTART:20171029T010000
END:STANDARD
END:VTIMEZONE
BEGIN:VEVENT
DTSTART;VALUE=DATE:20170520
DTEND;VALUE=DATE:20170521
DTSTAMP:20260420T094246
CREATED:20170511T195749Z
LAST-MODIFIED:20170511T195749Z
UID:11202-1495238400-1495324799@mdemusica.pt
SUMMARY:10Cotexas - Discotexas 10 Year Party\, Companhia\, Covilhã
DESCRIPTION:
URL:https://mdemusica.pt/agenda/10cotexas-discotexas-10-year-party-companhia-covilha/
LOCATION:Companhia\, Covilhã\, Portugal
ATTACH;FMTTYPE=image/png:https://mdemusica.pt/wp-content/uploads/2017/05/unnamed.png
END:VEVENT
END:VCALENDAR