BEGIN:VCALENDAR
VERSION:2.0
PRODID:-//M de Música - ECPv5.14.1//NONSGML v1.0//EN
CALSCALE:GREGORIAN
METHOD:PUBLISH
X-WR-CALNAME:M de Música
X-ORIGINAL-URL:http://mdemusica.pt
X-WR-CALDESC:Events for M de Música
BEGIN:VTIMEZONE
TZID:Europe/Lisbon
BEGIN:DAYLIGHT
TZOFFSETFROM:+0000
TZOFFSETTO:+0100
TZNAME:WEST
DTSTART:20160327T010000
END:DAYLIGHT
BEGIN:STANDARD
TZOFFSETFROM:+0100
TZOFFSETTO:+0000
TZNAME:WET
DTSTART:20161030T010000
END:STANDARD
END:VTIMEZONE
BEGIN:VEVENT
DTSTART;VALUE=DATE:20161008
DTEND;VALUE=DATE:20161009
DTSTAMP:20260420T152320
CREATED:20160531T121053Z
LAST-MODIFIED:20160916T132304Z
UID:6722-1475884800-1475971199@mdemusica.pt
SUMMARY:Yann Tiersen
DESCRIPTION:– Coliseu dos Recreios\, Lisboa \n \n 
URL:http://mdemusica.pt/agenda/yann-tiersen/
LOCATION:Coliseu dos Recreios\, Rua das Portas de Santo Antão\, 96\,  Lisboa\,  1150-269\, Portugal
END:VEVENT
END:VCALENDAR