BEGIN:VCALENDAR
VERSION:2.0
PRODID:-//M de Música - ECPv5.14.1//NONSGML v1.0//EN
CALSCALE:GREGORIAN
METHOD:PUBLISH
X-WR-CALNAME:M de Música
X-ORIGINAL-URL:http://mdemusica.pt
X-WR-CALDESC:Events for M de Música
BEGIN:VTIMEZONE
TZID:Europe/Lisbon
BEGIN:DAYLIGHT
TZOFFSETFROM:+0000
TZOFFSETTO:+0100
TZNAME:WEST
DTSTART:20180325T010000
END:DAYLIGHT
BEGIN:STANDARD
TZOFFSETFROM:+0100
TZOFFSETTO:+0000
TZNAME:WET
DTSTART:20181028T010000
END:STANDARD
END:VTIMEZONE
BEGIN:VEVENT
DTSTART;VALUE=DATE:20181116
DTEND;VALUE=DATE:20181117
DTSTAMP:20260421T100522
CREATED:20180909T114245Z
LAST-MODIFIED:20180909T114245Z
UID:15778-1542326400-1542412799@mdemusica.pt
SUMMARY:Will Samson\, Misty Fest\, Auditório de Espinho - Academia\, Espinho
DESCRIPTION:
URL:http://mdemusica.pt/agenda/will-samson-misty-fest-auditorio-espinho-academia-espinho/
LOCATION:Auditório de Espinho\, Rua 34\, nº884 –\, Espinho\,  4500-318 \, Portugal
ATTACH;FMTTYPE=image/jpeg:http://mdemusica.pt/wp-content/uploads/2018/09/Will-Samson_by-Sam-Lea-852x550.jpg
END:VEVENT
END:VCALENDAR