BEGIN:VCALENDAR
VERSION:2.0
PRODID:-//M de Música - ECPv5.14.1//NONSGML v1.0//EN
CALSCALE:GREGORIAN
METHOD:PUBLISH
X-WR-CALNAME:M de Música
X-ORIGINAL-URL:http://mdemusica.pt
X-WR-CALDESC:Events for M de Música
BEGIN:VTIMEZONE
TZID:Europe/Lisbon
BEGIN:DAYLIGHT
TZOFFSETFROM:+0000
TZOFFSETTO:+0100
TZNAME:WEST
DTSTART:20180325T010000
END:DAYLIGHT
BEGIN:STANDARD
TZOFFSETFROM:+0100
TZOFFSETTO:+0000
TZNAME:WET
DTSTART:20181028T010000
END:STANDARD
END:VTIMEZONE
BEGIN:VEVENT
DTSTART;VALUE=DATE:20180812
DTEND;VALUE=DATE:20180813
DTSTAMP:20260419T152015
CREATED:20180709T205441Z
LAST-MODIFIED:20180709T205441Z
UID:15367-1534032000-1534118399@mdemusica.pt
SUMMARY:Vodafone Paredes de Coura Sobe À Vila\, Paredes de Coura
DESCRIPTION:Barry White Gone Wrong\, 10 000 Russos\, Dupplo DJ Set
URL:http://mdemusica.pt/agenda/vodafone-paredes-coura-sobe-vila-paredes-coura-2/
LOCATION:Paredes de Coura\, Jardim da Praia Fluvial do Taboão \, Paredes de Coura\, 4940-000 \, Portugal
ATTACH;FMTTYPE=image/png:http://mdemusica.pt/wp-content/uploads/2018/07/Screen-Shot-2018-07-09-at-21.50.51.png
END:VEVENT
END:VCALENDAR