BEGIN:VCALENDAR
VERSION:2.0
PRODID:-//M de Música - ECPv5.14.1//NONSGML v1.0//EN
CALSCALE:GREGORIAN
METHOD:PUBLISH
X-WR-CALNAME:M de Música
X-ORIGINAL-URL:http://mdemusica.pt
X-WR-CALDESC:Events for M de Música
BEGIN:VTIMEZONE
TZID:Europe/Lisbon
BEGIN:DAYLIGHT
TZOFFSETFROM:+0000
TZOFFSETTO:+0100
TZNAME:WEST
DTSTART:20170326T010000
END:DAYLIGHT
BEGIN:STANDARD
TZOFFSETFROM:+0100
TZOFFSETTO:+0000
TZNAME:WET
DTSTART:20171029T010000
END:STANDARD
END:VTIMEZONE
BEGIN:VEVENT
DTSTART;VALUE=DATE:20170304
DTEND;VALUE=DATE:20170305
DTSTAMP:20260420T092040
CREATED:20170206T174130Z
LAST-MODIFIED:20170220T112156Z
UID:9923-1488585600-1488671999@mdemusica.pt
SUMMARY:Villa Fest\, Pavilhão Nervir\, Vila Real
DESCRIPTION:Mastiksoul\, Sam The Kid & Mundo Segundo\,Virgul\, Kappa Jotta\, DJ Oder
URL:http://mdemusica.pt/agenda/villa-fest-pavilhao-nervir-vila-real-mastiksoul-sam-the-kid-mundo-segundo/
LOCATION:Pavilhão Nervir\, Alameda de Grasse\, Apartado 1042\,  Vila Real\, 5000-703\, Portugal
ATTACH;FMTTYPE=image/png:http://mdemusica.pt/wp-content/uploads/2017/02/Villa-Fest.png
END:VEVENT
END:VCALENDAR