BEGIN:VCALENDAR
VERSION:2.0
PRODID:-//M de Música - ECPv5.14.1//NONSGML v1.0//EN
CALSCALE:GREGORIAN
METHOD:PUBLISH
X-WR-CALNAME:M de Música
X-ORIGINAL-URL:http://mdemusica.pt
X-WR-CALDESC:Events for M de Música
BEGIN:VTIMEZONE
TZID:Europe/Lisbon
BEGIN:DAYLIGHT
TZOFFSETFROM:+0000
TZOFFSETTO:+0100
TZNAME:WEST
DTSTART:20200329T010000
END:DAYLIGHT
BEGIN:STANDARD
TZOFFSETFROM:+0100
TZOFFSETTO:+0000
TZNAME:WET
DTSTART:20201025T010000
END:STANDARD
END:VTIMEZONE
BEGIN:VEVENT
DTSTART;VALUE=DATE:20201105
DTEND;VALUE=DATE:20201106
DTSTAMP:20260421T100523
CREATED:20201029T132641Z
LAST-MODIFIED:20201029T132641Z
UID:21493-1604534400-1604620799@mdemusica.pt
SUMMARY:Too Many Suns\, Estúdio Time Out\, Lisboa
DESCRIPTION:
URL:http://mdemusica.pt/agenda/too-many-suns-estudio-time-out-lisboa/
LOCATION:Estúdio Time Out\, Av. 24 de Julho\, 49 \, Lisboa\, 1200-479 \, Portugal
ATTACH;FMTTYPE=image/jpeg:http://mdemusica.pt/wp-content/uploads/2020/10/Foto1.jpg
END:VEVENT
END:VCALENDAR