BEGIN:VCALENDAR
VERSION:2.0
PRODID:-//M de Música - ECPv5.14.1//NONSGML v1.0//EN
CALSCALE:GREGORIAN
METHOD:PUBLISH
X-WR-CALNAME:M de Música
X-ORIGINAL-URL:http://mdemusica.pt
X-WR-CALDESC:Events for M de Música
BEGIN:VTIMEZONE
TZID:Europe/Lisbon
BEGIN:DAYLIGHT
TZOFFSETFROM:+0000
TZOFFSETTO:+0100
TZNAME:WEST
DTSTART:20220327T010000
END:DAYLIGHT
BEGIN:STANDARD
TZOFFSETFROM:+0100
TZOFFSETTO:+0000
TZNAME:WET
DTSTART:20221030T010000
END:STANDARD
END:VTIMEZONE
BEGIN:VEVENT
DTSTART;VALUE=DATE:20220520
DTEND;VALUE=DATE:20220521
DTSTAMP:20260421T100842
CREATED:20220225T142237Z
LAST-MODIFIED:20220225T142237Z
UID:23046-1653004800-1653091199@mdemusica.pt
SUMMARY:Tiago Bettencourt\, Hard Club\, Porto
DESCRIPTION:
URL:http://mdemusica.pt/agenda/tiago-bettencourt-hard-club-porto/
LOCATION:Hard Club\, Mercado Ferreira Borges\, Rua Infante D. Henrique\, 95 \, Porto\,  4050-252\, Portugal
ATTACH;FMTTYPE=image/png:http://mdemusica.pt/wp-content/uploads/2022/02/Captura-de-ecra-2022-02-23-as-10.33.22-e1645612428184.png
END:VEVENT
END:VCALENDAR