BEGIN:VCALENDAR
VERSION:2.0
PRODID:-//M de Música - ECPv5.14.1//NONSGML v1.0//EN
CALSCALE:GREGORIAN
METHOD:PUBLISH
X-WR-CALNAME:M de Música
X-ORIGINAL-URL:http://mdemusica.pt
X-WR-CALDESC:Events for M de Música
BEGIN:VTIMEZONE
TZID:Europe/Lisbon
BEGIN:DAYLIGHT
TZOFFSETFROM:+0000
TZOFFSETTO:+0100
TZNAME:WEST
DTSTART:20180325T010000
END:DAYLIGHT
BEGIN:STANDARD
TZOFFSETFROM:+0100
TZOFFSETTO:+0000
TZNAME:WET
DTSTART:20181028T010000
END:STANDARD
END:VTIMEZONE
BEGIN:VEVENT
DTSTART;VALUE=DATE:20180317
DTEND;VALUE=DATE:20180318
DTSTAMP:20260419T134639
CREATED:20180126T173645Z
LAST-MODIFIED:20180126T173645Z
UID:13841-1521244800-1521331199@mdemusica.pt
SUMMARY:The Legendary Tigerman\, Cine-Teatro João D'Oliva Monteiro\, Alcobaça
DESCRIPTION:
URL:http://mdemusica.pt/agenda/the-legendary-tigerman-cine-teatro-joao-doliva-monteiro-alcobaca/
LOCATION:Cine  Teatro Alcobaça\, RUA AFONSO DE ALBUQUERQUE\,  Alcobaça\, 2460-020\, Portugal
ORGANIZER;CN="Metr%C3%B3nomo":MAILTO:metronomo@metronomo.net
END:VEVENT
END:VCALENDAR