BEGIN:VCALENDAR
VERSION:2.0
PRODID:-//M de Música - ECPv5.14.1//NONSGML v1.0//EN
CALSCALE:GREGORIAN
METHOD:PUBLISH
X-WR-CALNAME:M de Música
X-ORIGINAL-URL:http://mdemusica.pt
X-WR-CALDESC:Events for M de Música
BEGIN:VTIMEZONE
TZID:Europe/Lisbon
BEGIN:DAYLIGHT
TZOFFSETFROM:+0000
TZOFFSETTO:+0100
TZNAME:WEST
DTSTART:20170326T010000
END:DAYLIGHT
BEGIN:STANDARD
TZOFFSETFROM:+0100
TZOFFSETTO:+0000
TZNAME:WET
DTSTART:20171029T010000
END:STANDARD
END:VTIMEZONE
BEGIN:VEVENT
DTSTART;TZID=Europe/Lisbon:20170227T080000
DTEND;TZID=Europe/Lisbon:20170227T170000
DTSTAMP:20260420T075245
CREATED:20170227T124558Z
LAST-MODIFIED:20170227T124558Z
UID:10260-1488182400-1488214800@mdemusica.pt
SUMMARY:The Gift\, Teatro Aveirense\, Aveiro
DESCRIPTION:
URL:http://mdemusica.pt/agenda/the-gift-teatro-aveirense-aveiro/
LOCATION:Teatro Aveirense\, Rua Belém do Pará\, Aveiro \, 3810-066\, Portugal
ATTACH;FMTTYPE=image/jpeg:http://mdemusica.pt/wp-content/uploads/2017/02/Altar-é-o-novo-álbum-dos-Gift.jpg
END:VEVENT
END:VCALENDAR