BEGIN:VCALENDAR
VERSION:2.0
PRODID:-//M de Música - ECPv5.14.1//NONSGML v1.0//EN
CALSCALE:GREGORIAN
METHOD:PUBLISH
X-WR-CALNAME:M de Música
X-ORIGINAL-URL:http://mdemusica.pt
X-WR-CALDESC:Events for M de Música
BEGIN:VTIMEZONE
TZID:Europe/Lisbon
BEGIN:DAYLIGHT
TZOFFSETFROM:+0000
TZOFFSETTO:+0100
TZNAME:WEST
DTSTART:20160327T010000
END:DAYLIGHT
BEGIN:STANDARD
TZOFFSETFROM:+0100
TZOFFSETTO:+0000
TZNAME:WET
DTSTART:20161030T010000
END:STANDARD
END:VTIMEZONE
BEGIN:VEVENT
DTSTART;VALUE=DATE:20160721
DTEND;VALUE=DATE:20160722
DTSTAMP:20260420T152813
CREATED:20160524T000837Z
LAST-MODIFIED:20160524T003244Z
UID:6560-1469059200-1469145599@mdemusica.pt
SUMMARY:Stacey Kent - EDPCoolJazz'16
DESCRIPTION:– edpcooljazz\, Jardins do Marquês de Pombal\, Oeiras
URL:http://mdemusica.pt/agenda/stacey-kent-edpcooljazz16/
LOCATION:JARDINS MARQUÊS DE POMBAL\, OEIRAS\, Largo Marquês de Pombal\, Lisboa\, Portugal
END:VEVENT
END:VCALENDAR