BEGIN:VCALENDAR
VERSION:2.0
PRODID:-//M de Música - ECPv5.14.1//NONSGML v1.0//EN
CALSCALE:GREGORIAN
METHOD:PUBLISH
X-WR-CALNAME:M de Música
X-ORIGINAL-URL:http://mdemusica.pt
X-WR-CALDESC:Events for M de Música
BEGIN:VTIMEZONE
TZID:Europe/Lisbon
BEGIN:DAYLIGHT
TZOFFSETFROM:+0000
TZOFFSETTO:+0100
TZNAME:WEST
DTSTART:20170326T010000
END:DAYLIGHT
BEGIN:STANDARD
TZOFFSETFROM:+0100
TZOFFSETTO:+0000
TZNAME:WET
DTSTART:20171029T010000
END:STANDARD
END:VTIMEZONE
BEGIN:VEVENT
DTSTART;VALUE=DATE:20170715
DTEND;VALUE=DATE:20170716
DTSTAMP:20260421T113359
CREATED:20170206T180012Z
LAST-MODIFIED:20170522T164807Z
UID:9962-1500076800-1500163199@mdemusica.pt
SUMMARY:Super Bock Super Rock: Deftones\, Foster the People\, Fatboy Slim\, Seu Jorge “The Life Aquatic”: Tributo a David Bowie\, Silva\, TaxiWars\, James Vincent McMorrow\, Bruno Pernadas\, Sensible Soccers\, Black Bombaim\, Stone Dead
DESCRIPTION: 
URL:http://mdemusica.pt/agenda/seu-jorge-super-bock-super-rock/
LOCATION:Parque das Nações\, Parque das Nações\, Lisboa\, Portugal
ATTACH;FMTTYPE=image/png:http://mdemusica.pt/wp-content/uploads/2017/02/14657525_1249484485122127_7135836414344483062_n.png
END:VEVENT
END:VCALENDAR