BEGIN:VCALENDAR
VERSION:2.0
PRODID:-//M de Música - ECPv5.14.1//NONSGML v1.0//EN
CALSCALE:GREGORIAN
METHOD:PUBLISH
X-WR-CALNAME:M de Música
X-ORIGINAL-URL:http://mdemusica.pt
X-WR-CALDESC:Events for M de Música
BEGIN:VTIMEZONE
TZID:Europe/Lisbon
BEGIN:DAYLIGHT
TZOFFSETFROM:+0000
TZOFFSETTO:+0100
TZNAME:WEST
DTSTART:20160327T010000
END:DAYLIGHT
BEGIN:STANDARD
TZOFFSETFROM:+0100
TZOFFSETTO:+0000
TZNAME:WET
DTSTART:20161030T010000
END:STANDARD
END:VTIMEZONE
BEGIN:VEVENT
DTSTART;VALUE=DATE:20160727
DTEND;VALUE=DATE:20160728
DTSTAMP:20260420T192016
CREATED:20160531T010009Z
LAST-MODIFIED:20160531T010429Z
UID:6662-1469577600-1469663999@mdemusica.pt
SUMMARY:Santana
DESCRIPTION:– Meo Arena\, Lisboa
URL:http://mdemusica.pt/agenda/santana/
LOCATION:Altice Arena\, Rossio dos Olivais\, Lote 2.13.01A\, Lisboa\, 1990-231\, Portugal
END:VEVENT
END:VCALENDAR