BEGIN:VCALENDAR
VERSION:2.0
PRODID:-//M de Música - ECPv5.14.1//NONSGML v1.0//EN
CALSCALE:GREGORIAN
METHOD:PUBLISH
X-WR-CALNAME:M de Música
X-ORIGINAL-URL:http://mdemusica.pt
X-WR-CALDESC:Events for M de Música
BEGIN:VTIMEZONE
TZID:Europe/Lisbon
BEGIN:DAYLIGHT
TZOFFSETFROM:+0000
TZOFFSETTO:+0100
TZNAME:WEST
DTSTART:20200329T010000
END:DAYLIGHT
BEGIN:STANDARD
TZOFFSETFROM:+0100
TZOFFSETTO:+0000
TZNAME:WET
DTSTART:20201025T010000
END:STANDARD
END:VTIMEZONE
BEGIN:VEVENT
DTSTART;VALUE=DATE:20200402
DTEND;VALUE=DATE:20200403
DTSTAMP:20260423T102809
CREATED:20191010T101731Z
LAST-MODIFIED:20191010T101731Z
UID:19271-1585785600-1585871999@mdemusica.pt
SUMMARY:Rui Massena\, Centro Cultural de Belém\, Lisboa
DESCRIPTION:
URL:http://mdemusica.pt/agenda/rui-massena-centro-cultural-belem-lisboa/
LOCATION:Centro Cultural de Belém\, Praça do Império\, \, Lisboa\, 1449-003 \, Portugal
ATTACH;FMTTYPE=image/png:http://mdemusica.pt/wp-content/uploads/2019/10/Screen-Shot-2019-10-10-at-11.13.47.png
END:VEVENT
END:VCALENDAR