BEGIN:VCALENDAR
VERSION:2.0
PRODID:-//M de Música - ECPv5.14.1//NONSGML v1.0//EN
CALSCALE:GREGORIAN
METHOD:PUBLISH
X-WR-CALNAME:M de Música
X-ORIGINAL-URL:http://mdemusica.pt
X-WR-CALDESC:Events for M de Música
BEGIN:VTIMEZONE
TZID:Europe/Lisbon
BEGIN:DAYLIGHT
TZOFFSETFROM:+0000
TZOFFSETTO:+0100
TZNAME:WEST
DTSTART:20160327T010000
END:DAYLIGHT
BEGIN:STANDARD
TZOFFSETFROM:+0100
TZOFFSETTO:+0000
TZNAME:WET
DTSTART:20161030T010000
END:STANDARD
END:VTIMEZONE
BEGIN:VEVENT
DTSTART;VALUE=DATE:20160701
DTEND;VALUE=DATE:20160702
DTSTAMP:20260419T142223
CREATED:20160531T143234Z
LAST-MODIFIED:20160531T143234Z
UID:6757-1467331200-1467417599@mdemusica.pt
SUMMARY:Rodrigo Amarante
DESCRIPTION:– Teatro Aveirense\, Aveiro
URL:http://mdemusica.pt/agenda/rodrigo-amarante-teatro-aveirense-aveiro/
LOCATION:Teatro Aveirense\, Rua Belém do Pará\, Aveiro \, 3810-066\, Portugal
END:VEVENT
END:VCALENDAR